BEGIN:VCALENDAR
VERSION:2.0
PRODID:-//Makan - ECPv6.15.20//NONSGML v1.0//EN
CALSCALE:GREGORIAN
METHOD:PUBLISH
X-WR-CALNAME:Makan
X-ORIGINAL-URL:https://www.makan.org.uk
X-WR-CALDESC:Events for Makan
REFRESH-INTERVAL;VALUE=DURATION:PT1H
X-Robots-Tag:noindex
X-PUBLISHED-TTL:PT1H
BEGIN:VTIMEZONE
TZID:Europe/London
BEGIN:DAYLIGHT
TZOFFSETFROM:+0000
TZOFFSETTO:+0100
TZNAME:BST
DTSTART:20250330T010000
END:DAYLIGHT
BEGIN:STANDARD
TZOFFSETFROM:+0100
TZOFFSETTO:+0000
TZNAME:GMT
DTSTART:20251026T010000
END:STANDARD
BEGIN:DAYLIGHT
TZOFFSETFROM:+0000
TZOFFSETTO:+0100
TZNAME:BST
DTSTART:20260329T010000
END:DAYLIGHT
BEGIN:STANDARD
TZOFFSETFROM:+0100
TZOFFSETTO:+0000
TZNAME:GMT
DTSTART:20261025T010000
END:STANDARD
BEGIN:DAYLIGHT
TZOFFSETFROM:+0000
TZOFFSETTO:+0100
TZNAME:BST
DTSTART:20270328T010000
END:DAYLIGHT
BEGIN:STANDARD
TZOFFSETFROM:+0100
TZOFFSETTO:+0000
TZNAME:GMT
DTSTART:20271031T010000
END:STANDARD
END:VTIMEZONE
BEGIN:VEVENT
DTSTART;TZID=Europe/London:20260428T183000
DTEND;TZID=Europe/London:20260428T203000
DTSTAMP:20260419T161855
CREATED:20260402T105948Z
LAST-MODIFIED:20260402T105948Z
UID:2810-1777401000-1777408200@www.makan.org.uk
SUMMARY:Makan - Communications & Advanced Debating (Online)
DESCRIPTION:This workshop aims to provide attendees with skills and tools to engage with different audiences and to effectively deal with difficult questions in potentially high-pressured situations. Each participant will put their knowledge and communication skills to practice by engaging in a one-on-one debate roleplay with Makan facilitators. Each debate is then followed by detailed facilitated feedback. \nTuesday 28th April\, 6:30-8:30pm \nRegister your spot here \n 
URL:https://www.makan.org.uk/event/makan-communications-advanced-debating-online/
ATTACH;FMTTYPE=image/png:https://www.makan.org.uk/wp-content/uploads/2026/04/CAD-Workshop-1920-x-1080-px.png
END:VEVENT
BEGIN:VEVENT
DTSTART;TZID=Europe/London:20260506T160000
DTEND;TZID=Europe/London:20260506T173000
DTSTAMP:20260419T161855
CREATED:20260413T104816Z
LAST-MODIFIED:20260413T104816Z
UID:2822-1778083200-1778088600@www.makan.org.uk
SUMMARY:NSUN with Makan - Madness & Palestinian Liberation Part 1 (Online)
DESCRIPTION:Mad Campaigns Lab is a space for NSUN members (individuals with lived experience of mental ill-health\, distress\, and/or trauma\, as well as grassroots\, user-led mental health groups). \nMadness & Palestinian Liberation (with Makan)\nPart 1: 6th May\, 4.00-5.30pm. Panel & discussion\nHow are Disability Justice and Palestinian Liberation interlinked? How does settler colonialism work to shape experiences of mental ill-health & madness? Join NSUN and guest speakers from Makan to learn more. \nThis session will include a presentation and discussion between NSUN and Makan. This first half will be recorded but this will not include participants’ names or faces. After the break we will take questions from the audience\, which will not be recorded. \n\nSign up for Part 1 
URL:https://www.makan.org.uk/event/nsun-with-makan-madness-palestinian-liberation-part-1-online/
ATTACH;FMTTYPE=image/png:https://www.makan.org.uk/wp-content/uploads/2026/04/Screenshot-2026-04-13-114736.png
END:VEVENT
END:VCALENDAR