BEGIN:VCALENDAR
VERSION:2.0
PRODID:-//Makan - ECPv6.15.20//NONSGML v1.0//EN
CALSCALE:GREGORIAN
METHOD:PUBLISH
X-WR-CALNAME:Makan
X-ORIGINAL-URL:https://www.makan.org.uk
X-WR-CALDESC:Events for Makan
REFRESH-INTERVAL;VALUE=DURATION:PT1H
X-Robots-Tag:noindex
X-PUBLISHED-TTL:PT1H
BEGIN:VTIMEZONE
TZID:Europe/London
BEGIN:DAYLIGHT
TZOFFSETFROM:+0000
TZOFFSETTO:+0100
TZNAME:BST
DTSTART:20250330T010000
END:DAYLIGHT
BEGIN:STANDARD
TZOFFSETFROM:+0100
TZOFFSETTO:+0000
TZNAME:GMT
DTSTART:20251026T010000
END:STANDARD
BEGIN:DAYLIGHT
TZOFFSETFROM:+0000
TZOFFSETTO:+0100
TZNAME:BST
DTSTART:20260329T010000
END:DAYLIGHT
BEGIN:STANDARD
TZOFFSETFROM:+0100
TZOFFSETTO:+0000
TZNAME:GMT
DTSTART:20261025T010000
END:STANDARD
BEGIN:DAYLIGHT
TZOFFSETFROM:+0000
TZOFFSETTO:+0100
TZNAME:BST
DTSTART:20270328T010000
END:DAYLIGHT
BEGIN:STANDARD
TZOFFSETFROM:+0100
TZOFFSETTO:+0000
TZNAME:GMT
DTSTART:20271031T010000
END:STANDARD
END:VTIMEZONE
BEGIN:VEVENT
DTSTART;TZID=Europe/London:20260415T180000
DTEND;TZID=Europe/London:20260415T191500
DTSTAMP:20260419T174241
CREATED:20260402T111408Z
LAST-MODIFIED:20260402T111408Z
UID:2813-1776276000-1776280500@www.makan.org.uk
SUMMARY:Genocide Inside & Outside of the Prison: A talk with Lena Meari & Basil Farraj on the Palestinian condition and Israel’s carceral regime (Online)
DESCRIPTION:Register your spot here \nPrisons are a focal site for understanding Palestine and the wider Palestinian condition. Imprisonment as a central tactic helps us see how Israel turns Palestinian land and lives into spaces to criminalise\, while using the prison itself as a space of brutal experimentation and extermination. \nIn the last few years\, numerous reports have emerged detailing the horrific treatment of imprisoned Palestinian children\, women and men. Imprisonment has been used as a long standing colonial British and Israeli strategy to break Palestinian bonds and capacity to overcome settler colonial violence and live in freedom and dignity\, but since the ongoing genocide in Gaza there is an escalation in the employment of violence\, particularly sexual violence\, turning prisons into a space to accelerate its genocide against the Palestinian people.  \nOur upcoming online conversation with Lena Meari and Basil Farraj will be unpacking the role of the colonial carceral regime\, the specificity of Israel as a carceral state and its shifting tactics within prisons\, how  gender and sexuality are deployed in prisons\, and the centrality of prisoners and sumud within the Palestinian struggle. \nAbout Lena Meari \nLena is an associate professor of cultural anthropology at the Department of Social and Behavioral Sciences and the Institute of Women’s Studies at Birzeit University\, Palestine. She received her PhD in Cultural Anthropology with a Designated Emphasis in Feminist Theory and Research from the University of California\, Davis. Her special interests lie in the geopolitics of knowledge production; subject formation in colonial contexts; de-colonial feminist theory and methodology; and formations of sumud in the Palestinian context. Her publications include “Sumud: A Palestinian Philosophy of Confrontation in Colonial Prisons”\, “Re-signifying `Sexual` Colonial Power Techniques: The Experiences of Palestinian Women Political Prisoners”\, and the co-edited books “Rethinking Gender in Revolutions and Resistance: Lessons from the Arab World” and “The Politics of Engaged Gender Research in the Arab Region”. \nAbout Basil Farraj \nBasil is the Director of the Ibrahim Abu-Lughod Institute of International Studies\, and an Assistant Professor at the Department of Philosophy and Cultural studies\, Birzeit University. Basil’s research addresses the intersections of memory\, resistance\, and art by prisoners and others at the receiving end of violence. He has conducted research in several countries including Chile\, Colombia\, and Palestine. \nAbout Makan: \nMakan is an independent\, non-partisan organisation dedicated to interconnected learning. Our approach is grounded in a belief that education is a liberatory act that can lay the ground for structural change. Situating Palestine within the context of other human rights\, social justice and global liberation movements\, we work towards transformation by adopting educational approaches that capture the history of the Palestinian struggle and the realities on the ground. We aim to support advocates as part of a community that is not only well-informed\, interconnected\, and empowered\, but passionately committed to cultivating a future for Palestinians built on freedom\, justice\, and dignity.
URL:https://www.makan.org.uk/event/genocide-inside-outside-of-the-prison-a-talk-with-lena-meari-basil-farraj-on-the-palestinian-condition-and-israels-carceral-regime-online/
ATTACH;FMTTYPE=image/png:https://www.makan.org.uk/wp-content/uploads/2026/04/Virtual-Talk-Genocide-Inside-Outside-of-the-Prison-1920-x-1080-px.png
END:VEVENT
END:VCALENDAR