BEGIN:VCALENDAR
VERSION:2.0
PRODID:-//Makan - ECPv6.15.20//NONSGML v1.0//EN
CALSCALE:GREGORIAN
METHOD:PUBLISH
X-WR-CALNAME:Makan
X-ORIGINAL-URL:https://www.makan.org.uk
X-WR-CALDESC:Events for Makan
REFRESH-INTERVAL;VALUE=DURATION:PT1H
X-Robots-Tag:noindex
X-PUBLISHED-TTL:PT1H
BEGIN:VTIMEZONE
TZID:Europe/London
BEGIN:DAYLIGHT
TZOFFSETFROM:+0000
TZOFFSETTO:+0100
TZNAME:BST
DTSTART:20250330T010000
END:DAYLIGHT
BEGIN:STANDARD
TZOFFSETFROM:+0100
TZOFFSETTO:+0000
TZNAME:GMT
DTSTART:20251026T010000
END:STANDARD
BEGIN:DAYLIGHT
TZOFFSETFROM:+0000
TZOFFSETTO:+0100
TZNAME:BST
DTSTART:20260329T010000
END:DAYLIGHT
BEGIN:STANDARD
TZOFFSETFROM:+0100
TZOFFSETTO:+0000
TZNAME:GMT
DTSTART:20261025T010000
END:STANDARD
BEGIN:DAYLIGHT
TZOFFSETFROM:+0000
TZOFFSETTO:+0100
TZNAME:BST
DTSTART:20270328T010000
END:DAYLIGHT
BEGIN:STANDARD
TZOFFSETFROM:+0100
TZOFFSETTO:+0000
TZNAME:GMT
DTSTART:20271031T010000
END:STANDARD
END:VTIMEZONE
BEGIN:VEVENT
DTSTART;TZID=Europe/London:20260324T183000
DTEND;TZID=Europe/London:20260324T203000
DTSTAMP:20260419T162206
CREATED:20260219T105559Z
LAST-MODIFIED:20260324T104309Z
UID:2785-1774377000-1774384200@www.makan.org.uk
SUMMARY:RESCHEDULED - Framing Israeli Apartheid: Uses and Limitations for Palestine Advocacy (Online)
DESCRIPTION:‘Framing Israeli Apartheid: Uses and Limitations for Palestine Advocacy’\n\nThis workshop has been rescheduled and we will be posting a new date soon!\n\nThis online workshop for Israeli Apartheid Week offers a comprehensive understanding of apartheid\, illustrating how Israel’s policies meet the legal definition of apartheid under international law. This workshop also aims to help activists develop a critical understanding of some of the limitations of the apartheid framework\, and how to utilise it strategically alongside frameworks of settler colonialism and occupation in advocacy. \n\n‘Framing Israeli Apartheid’ prioritises lecturing\, with opportunities for light interactivity and questions to the facilitators interspersed.\n\n\nWho Is This Workshop For?\n\nThis workshop is suitable for people who would like to build their core\, foundational knowledge about Palestinian history and the Palestinian struggle\, and to learn how to utilise this foundational knowledge to communicate effectively about Palestine to others.\n\nAs an organisation our primary focus is to work with student activists\, trade unionists\, social justice campaigners and journalists based in Britain & Ireland. We do also encourage applications from other individuals who are:\n\n\nActive and engaged with Palestine outside Britain & Ireland\nInvolved with other social justice struggles/human rights struggles looking to start/get more involved in Palestine\nDiaspora Palestinians and Palestinians based abroad or planning to study/work abroad\n\nApply here to secure your spot
URL:https://www.makan.org.uk/event/framing-israeli-apartheid-uses-and-limitations-for-palestine-advocacy-online/
ATTACH;FMTTYPE=image/png:https://www.makan.org.uk/wp-content/uploads/2026/02/Framing-Israeli-Apartheid-workshop-graphic-March-2026-Presentation-1.png
END:VEVENT
END:VCALENDAR